BEGIN:VCALENDAR
VERSION:2.0
PRODID:-//hacksw/handcal//NONSGML v1.0//EN
BEGIN:VEVENT
SUMMARY:Assemblee Generale
UID:813ef78a-9ef7-4d1e-8e37-5fe714b9374a
DTSTART:20260625T170000Z
DTEND:20260625T200000Z
LOCATION:Localisation   
CATEGORIES:Sportif
STATUS:
DESCRIPTION:<p>Les precisions vous seront communiquees
 ulterieurement.</p>
URL;VALUE=URI:https://www.lesrandorge.fr/evenements/2026/06/25/assemblee-generale-2439295
END:VEVENT
END:VCALENDAR
