BEGIN:VCALENDAR
VERSION:2.0
PRODID:-//hacksw/handcal//NONSGML v1.0//EN
BEGIN:VEVENT
SUMMARY:Rando disponible.
UID:a51fc209-5d0e-4c14-8a21-a24c6ca42b30
DTSTART:20260530T220000Z
DTEND:20260531T220000Z
LOCATION:Localisation   
CATEGORIES:Sportif
STATUS:
DESCRIPTION:<p>Randonnee disponible.</p>
URL;VALUE=URI:https://www.lesrandorge.fr/evenements/2026/05/31/rando-disponible-2432320
END:VEVENT
END:VCALENDAR
