BEGIN:VCALENDAR
VERSION:2.0
PRODID:-//hacksw/handcal//NONSGML v1.0//EN
BEGIN:VEVENT
SUMMARY:Organise Par Ghislaine et Andre : WE Pentecote a Amboise
UID:c29b68e2-b0a8-4692-8bd2-f5e93b237cb1
DTSTART:20260522T220000Z
DTEND:20260525T220000Z
LOCATION:Localisation   
CATEGORIES:Sportif
STATUS:
DESCRIPTION:<p>Les informations  vous seront precisees quelque temps
 avant le depart ( heure du RV pour le car etc...)</p>
 
 <p> </p>
URL;VALUE=URI:https://www.lesrandorge.fr/evenements/2026/05/23/organise-par-ghislaine-et-andre-we-pentecote-a-amboise-2432316
END:VEVENT
END:VCALENDAR
