BEGIN:VCALENDAR
VERSION:2.0
PRODID:-//hacksw/handcal//NONSGML v1.0//EN
BEGIN:VEVENT
SUMMARY:Rando disponible.
UID:e6eb428d-14fb-4575-94ca-1cfd59ebe6ee
DTSTART:20260518T220000Z
DTEND:20260519T220000Z
LOCATION:Localisation   
CATEGORIES:Sportif
STATUS:
DESCRIPTION:<p>Randonnee disponible.</p>
URL;VALUE=URI:https://www.lesrandorge.fr/evenements/2026/05/19/rando-disponible-2432317
END:VEVENT
END:VCALENDAR
