BEGIN:VCALENDAR
VERSION:2.0
PRODID:-//hacksw/handcal//NONSGML v1.0//EN
BEGIN:VEVENT
SUMMARY:Rando disponible.
UID:114320af-0bfc-403e-8869-e345babc5092
DTSTART:20260516T220000Z
DTEND:20260517T220000Z
LOCATION:Localisation   
CATEGORIES:Sportif
STATUS:
DESCRIPTION:<p>Randonnee disponible.</p>
URL;VALUE=URI:https://www.lesrandorge.fr/evenements/2026/05/17/rando-disponible-2432314
END:VEVENT
END:VCALENDAR
